BEGIN:VCALENDAR
VERSION:2.0
PRODID:-//Mental Health Help - ECPv5.0.2//NONSGML v1.0//EN
CALSCALE:GREGORIAN
METHOD:PUBLISH
X-WR-CALNAME:Mental Health Help
X-ORIGINAL-URL:https://www.mentalhealthhelp.com.au
X-WR-CALDESC:Events for Mental Health Help
BEGIN:VTIMEZONE
TZID:Australia/Sydney
BEGIN:STANDARD
TZOFFSETFROM:+1100
TZOFFSETTO:+1000
TZNAME:AEST
DTSTART:20190406T160000
END:STANDARD
BEGIN:DAYLIGHT
TZOFFSETFROM:+1000
TZOFFSETTO:+1100
TZNAME:AEDT
DTSTART:20191005T160000
END:DAYLIGHT
END:VTIMEZONE
BEGIN:VEVENT
DTSTART;TZID=Australia/Sydney:20191113T180000
DTEND;TZID=Australia/Sydney:20191113T200000
DTSTAMP:20200301T171343
CREATED:20191107T214928Z
LAST-MODIFIED:20191107T214928Z
UID:4692-1573668000-1573675200@www.mentalhealthhelp.com.au
SUMMARY:Perinatal Anxiety Awareness Night
DESCRIPTION: \n
URL:https://www.mentalhealthhelp.com.au/event/perinatal-anxiety-awareness-night/
LOCATION:Nepean Hospital\, Derby Street\, Kingswood\, NSW\, 2747\, Australia
END:VEVENT
END:VCALENDAR