BEGIN:VCALENDAR
VERSION:2.0
PRODID:-//Mental Health Help - ECPv5.0.2//NONSGML v1.0//EN
CALSCALE:GREGORIAN
METHOD:PUBLISH
X-WR-CALNAME:Mental Health Help
X-ORIGINAL-URL:https://www.mentalhealthhelp.com.au
X-WR-CALDESC:Events for Mental Health Help
BEGIN:VTIMEZONE
TZID:Australia/Sydney
BEGIN:STANDARD
TZOFFSETFROM:+1100
TZOFFSETTO:+1000
TZNAME:AEST
DTSTART:20190406T160000
END:STANDARD
BEGIN:DAYLIGHT
TZOFFSETFROM:+1000
TZOFFSETTO:+1100
TZNAME:AEDT
DTSTART:20191005T160000
END:DAYLIGHT
END:VTIMEZONE
BEGIN:VEVENT
DTSTART;TZID=Australia/Sydney:20191010T090000
DTEND;TZID=Australia/Sydney:20191010T140000
DTSTAMP:20200301T173038
CREATED:20190924T231007Z
LAST-MODIFIED:20190924T231007Z
UID:4623-1570698000-1570716000@www.mentalhealthhelp.com.au
SUMMARY:Mental Health Month at the Fusion Cafe\, St Marys
DESCRIPTION: \n
URL:https://www.mentalhealthhelp.com.au/event/mental_health_month_fusion_cafe_2019/
LOCATION:Fusion Cafe\, Cnr Queen and Station St\, St Marys\, NSW\, 2760\, Australia
END:VEVENT
BEGIN:VEVENT
DTSTART;TZID=Australia/Sydney:20191010T170000
DTEND;TZID=Australia/Sydney:20191010T190000
DTSTAMP:20200301T173038
CREATED:20190116T032146Z
LAST-MODIFIED:20190116T032146Z
UID:4222-1570726800-1570734000@www.mentalhealthhelp.com.au
SUMMARY:Surviving Suicide - Blue Mountains Suicide Support Group
DESCRIPTION: \n
URL:https://www.mentalhealthhelp.com.au/event/bm-suicide-support-group-oct/
LOCATION:Mid Mountains Neighborhood Centre\, 9 New St\, Lawson\, NSW\, 2783\, Australia
END:VEVENT
END:VCALENDAR