BEGIN:VCALENDAR
VERSION:2.0
PRODID:-//Mental Health Help - ECPv5.0.2//NONSGML v1.0//EN
CALSCALE:GREGORIAN
METHOD:PUBLISH
X-WR-CALNAME:Mental Health Help
X-ORIGINAL-URL:https://www.mentalhealthhelp.com.au
X-WR-CALDESC:Events for Mental Health Help
BEGIN:VTIMEZONE
TZID:Australia/Sydney
BEGIN:STANDARD
TZOFFSETFROM:+1100
TZOFFSETTO:+1000
TZNAME:AEST
DTSTART:20190406T160000
END:STANDARD
BEGIN:DAYLIGHT
TZOFFSETFROM:+1000
TZOFFSETTO:+1100
TZNAME:AEDT
DTSTART:20191005T160000
END:DAYLIGHT
END:VTIMEZONE
BEGIN:VEVENT
DTSTART;TZID=Australia/Sydney:20191004T140000
DTEND;TZID=Australia/Sydney:20191004T160000
DTSTAMP:20200301T173020
CREATED:20190116T031109Z
LAST-MODIFIED:20190116T031536Z
UID:4216-1570197600-1570204800@www.mentalhealthhelp.com.au
SUMMARY:Pity Party Support Group
DESCRIPTION: \n
URL:https://www.mentalhealthhelp.com.au/event/pity-party-oct-2019/
LOCATION:Mid Mountains Neighborhood Centre\, 9 New St\, Lawson\, NSW\, 2783\, Australia
END:VEVENT
END:VCALENDAR