BEGIN:VCALENDAR
VERSION:2.0
PRODID:-//Mental Health Help - ECPv5.0.2//NONSGML v1.0//EN
CALSCALE:GREGORIAN
METHOD:PUBLISH
X-WR-CALNAME:Mental Health Help
X-ORIGINAL-URL:https://www.mentalhealthhelp.com.au
X-WR-CALDESC:Events for Mental Health Help
BEGIN:VTIMEZONE
TZID:Australia/Sydney
BEGIN:STANDARD
TZOFFSETFROM:+1100
TZOFFSETTO:+1000
TZNAME:AEST
DTSTART:20190406T160000
END:STANDARD
BEGIN:DAYLIGHT
TZOFFSETFROM:+1000
TZOFFSETTO:+1100
TZNAME:AEDT
DTSTART:20191005T160000
END:DAYLIGHT
END:VTIMEZONE
BEGIN:VEVENT
DTSTART;TZID=Australia/Sydney:20191003T100000
DTEND;TZID=Australia/Sydney:20191003T113000
DTSTAMP:20200301T173005
CREATED:20190716T021034Z
LAST-MODIFIED:20190716T021034Z
UID:4524-1570096800-1570102200@www.mentalhealthhelp.com.au
SUMMARY:The Learning Circle
DESCRIPTION: \n
URL:https://www.mentalhealthhelp.com.au/event/learning-circle-oct/
LOCATION:Nepean Volunteer Services Inc.\, Suite 106\, 1st Floor\, 114-116 Henry Street\, Penrith\, NSW\, 2750\, Australia
END:VEVENT
BEGIN:VEVENT
DTSTART;TZID=Australia/Sydney:20191003T120000
DTEND;TZID=Australia/Sydney:20191003T150000
DTSTAMP:20200301T173005
CREATED:20190924T225333Z
LAST-MODIFIED:20190924T225333Z
UID:4620-1570104000-1570114800@www.mentalhealthhelp.com.au
SUMMARY:Share the Journey - Mental Health Day 2019
DESCRIPTION: \n
URL:https://www.mentalhealthhelp.com.au/event/share-the-journey-2019/
LOCATION:The Mondo\, 597 High St\, Penrith\, NSW\, 2750\, Australia
END:VEVENT
END:VCALENDAR