BEGIN:VCALENDAR
VERSION:2.0
PRODID:-//Mental Health Help - ECPv5.0.2//NONSGML v1.0//EN
CALSCALE:GREGORIAN
METHOD:PUBLISH
X-WR-CALNAME:Mental Health Help
X-ORIGINAL-URL:https://www.mentalhealthhelp.com.au
X-WR-CALDESC:Events for Mental Health Help
BEGIN:VTIMEZONE
TZID:Australia/Sydney
BEGIN:STANDARD
TZOFFSETFROM:+1100
TZOFFSETTO:+1000
TZNAME:AEST
DTSTART:20190406T160000
END:STANDARD
BEGIN:DAYLIGHT
TZOFFSETFROM:+1000
TZOFFSETTO:+1100
TZNAME:AEDT
DTSTART:20191005T160000
END:DAYLIGHT
END:VTIMEZONE
BEGIN:VEVENT
DTSTART;TZID=Australia/Sydney:20190905T110000
DTEND;TZID=Australia/Sydney:20190905T140000
DTSTAMP:20200301T172911
CREATED:20190826T041604Z
LAST-MODIFIED:20190826T041605Z
UID:4613-1567681200-1567692000@www.mentalhealthhelp.com.au
SUMMARY:San Miguel's Community Fun Day
DESCRIPTION: \n
URL:https://www.mentalhealthhelp.com.au/event/san-miguel-community-fun-day/
LOCATION:San Miguel Family Centre\, 884 Kurmond Road\, North Richmond\, NSW\, 2754\, Australia
END:VEVENT
END:VCALENDAR