BEGIN:VCALENDAR
VERSION:2.0
PRODID:-//Mental Health Help - ECPv5.0.2//NONSGML v1.0//EN
CALSCALE:GREGORIAN
METHOD:PUBLISH
X-WR-CALNAME:Mental Health Help
X-ORIGINAL-URL:https://www.mentalhealthhelp.com.au
X-WR-CALDESC:Events for Mental Health Help
BEGIN:VTIMEZONE
TZID:Australia/Sydney
BEGIN:STANDARD
TZOFFSETFROM:+1100
TZOFFSETTO:+1000
TZNAME:AEST
DTSTART:20190406T160000
END:STANDARD
BEGIN:DAYLIGHT
TZOFFSETFROM:+1000
TZOFFSETTO:+1100
TZNAME:AEDT
DTSTART:20191005T160000
END:DAYLIGHT
END:VTIMEZONE
BEGIN:VEVENT
DTSTART;TZID=Australia/Sydney:20190912T110000
DTEND;TZID=Australia/Sydney:20190912T140000
DTSTAMP:20200301T171209
CREATED:20190826T035140Z
LAST-MODIFIED:20190826T035140Z
UID:4603-1568286000-1568296800@www.mentalhealthhelp.com.au
SUMMARY:R U OK Day and Flag Raising
DESCRIPTION: \n
URL:https://www.mentalhealthhelp.com.au/event/r-u-ok-day-and-flag-raising/
LOCATION:Sydney Region Aboriginal Corporation\, 51-57 Henry St\, Penrith\, NSW\, 2750\, Australia
END:VEVENT
END:VCALENDAR