BEGIN:VCALENDAR
VERSION:2.0
PRODID:-//Mental Health Help - ECPv5.0.2//NONSGML v1.0//EN
CALSCALE:GREGORIAN
METHOD:PUBLISH
X-WR-CALNAME:Mental Health Help
X-ORIGINAL-URL:https://www.mentalhealthhelp.com.au
X-WR-CALDESC:Events for Mental Health Help
BEGIN:VTIMEZONE
TZID:Australia/Sydney
BEGIN:STANDARD
TZOFFSETFROM:+1100
TZOFFSETTO:+1000
TZNAME:AEST
DTSTART:20190406T160000
END:STANDARD
BEGIN:DAYLIGHT
TZOFFSETFROM:+1000
TZOFFSETTO:+1100
TZNAME:AEDT
DTSTART:20191005T160000
END:DAYLIGHT
END:VTIMEZONE
BEGIN:VEVENT
DTSTART;TZID=Australia/Sydney:20190625T103000
DTEND;TZID=Australia/Sydney:20190625T133000
DTSTAMP:20200301T172529
CREATED:20190524T011756Z
LAST-MODIFIED:20190524T011808Z
UID:4451-1561458600-1561469400@www.mentalhealthhelp.com.au
SUMMARY:Penrith Area Outreach Event
DESCRIPTION: \n
URL:https://www.mentalhealthhelp.com.au/event/penrith-outreach-event/
LOCATION:Arthur Neave Memorial Hall\, 43 Parkes Avenue\, Werrington\, NSW\, 2747\, Australia
ORGANIZER;CN="Community%20Junction%20Inc":MAILTO:info@communityjunction.org.au
END:VEVENT
END:VCALENDAR