BEGIN:VCALENDAR
VERSION:2.0
PRODID:-//Mental Health Help - ECPv5.0.2//NONSGML v1.0//EN
CALSCALE:GREGORIAN
METHOD:PUBLISH
X-WR-CALNAME:Mental Health Help
X-ORIGINAL-URL:https://www.mentalhealthhelp.com.au
X-WR-CALDESC:Events for Mental Health Help
BEGIN:VTIMEZONE
TZID:Australia/Sydney
BEGIN:STANDARD
TZOFFSETFROM:+1100
TZOFFSETTO:+1000
TZNAME:AEST
DTSTART:20190406T160000
END:STANDARD
BEGIN:DAYLIGHT
TZOFFSETFROM:+1000
TZOFFSETTO:+1100
TZNAME:AEDT
DTSTART:20191005T160000
END:DAYLIGHT
END:VTIMEZONE
BEGIN:VEVENT
DTSTART;TZID=Australia/Sydney:20191202T110000
DTEND;TZID=Australia/Sydney:20191202T133000
DTSTAMP:20200301T170845
CREATED:20191108T020432Z
LAST-MODIFIED:20191108T020524Z
UID:4696-1575284400-1575293400@www.mentalhealthhelp.com.au
SUMMARY:Penrith Area Help Hub Day
DESCRIPTION: \n
URL:https://www.mentalhealthhelp.com.au/event/penrith-help-hub-dec2019/
LOCATION:North St Marys Neighbourhood Centre\, Cnr Debrincat Ave 7 Oleander Rd\, North St Marys\, NSW\, 2760\, Australia
END:VEVENT
END:VCALENDAR