BEGIN:VCALENDAR
VERSION:2.0
PRODID:-//Mental Health Help - ECPv5.0.2//NONSGML v1.0//EN
CALSCALE:GREGORIAN
METHOD:PUBLISH
X-WR-CALNAME:Mental Health Help
X-ORIGINAL-URL:https://www.mentalhealthhelp.com.au
X-WR-CALDESC:Events for Mental Health Help
BEGIN:VTIMEZONE
TZID:Australia/Sydney
BEGIN:STANDARD
TZOFFSETFROM:+1100
TZOFFSETTO:+1000
TZNAME:AEST
DTSTART:20190406T160000
END:STANDARD
BEGIN:DAYLIGHT
TZOFFSETFROM:+1000
TZOFFSETTO:+1100
TZNAME:AEDT
DTSTART:20191005T160000
END:DAYLIGHT
END:VTIMEZONE
BEGIN:VEVENT
DTSTART;TZID=Australia/Sydney:20191018T130000
DTEND;TZID=Australia/Sydney:20191018T160000
DTSTAMP:20200301T172158
CREATED:20191108T020914Z
LAST-MODIFIED:20191108T020914Z
UID:4700-1571403600-1571414400@www.mentalhealthhelp.com.au
SUMMARY:NDIS/Ability Links Community BBQ
DESCRIPTION: \n
URL:https://www.mentalhealthhelp.com.au/event/ndis-ability-links-community-bbq/
LOCATION:Budyari Community Health Centre\, 18 Woodward Cres\, Miller\, NSW\, 2168\, Australia
END:VEVENT
END:VCALENDAR