BEGIN:VCALENDAR
VERSION:2.0
PRODID:-//Mental Health Help - ECPv5.0.2//NONSGML v1.0//EN
CALSCALE:GREGORIAN
METHOD:PUBLISH
X-WR-CALNAME:Mental Health Help
X-ORIGINAL-URL:https://www.mentalhealthhelp.com.au
X-WR-CALDESC:Events for Mental Health Help
BEGIN:VTIMEZONE
TZID:Australia/Sydney
BEGIN:STANDARD
TZOFFSETFROM:+1100
TZOFFSETTO:+1000
TZNAME:AEST
DTSTART:20190406T160000
END:STANDARD
BEGIN:DAYLIGHT
TZOFFSETFROM:+1000
TZOFFSETTO:+1100
TZNAME:AEDT
DTSTART:20191005T160000
END:DAYLIGHT
END:VTIMEZONE
BEGIN:VEVENT
DTSTART;TZID=Australia/Sydney:20191203T173000
DTEND;TZID=Australia/Sydney:20191203T210000
DTSTAMP:20200301T170859
CREATED:20191119T015732Z
LAST-MODIFIED:20191119T015732Z
UID:4751-1575394200-1575406800@www.mentalhealthhelp.com.au
SUMMARY:Mental Health & Suicide Prevention Forum - Penrith
DESCRIPTION: \n
URL:https://www.mentalhealthhelp.com.au/event/mh-forum-penrith/
LOCATION:Penrith RSL\, 8 Tindale St\, Penrith\, NSW\, 2750\, Australia
END:VEVENT
END:VCALENDAR