BEGIN:VCALENDAR
VERSION:2.0
PRODID:-//Mental Health Help - ECPv5.0.2//NONSGML v1.0//EN
CALSCALE:GREGORIAN
METHOD:PUBLISH
X-WR-CALNAME:Mental Health Help
X-ORIGINAL-URL:https://www.mentalhealthhelp.com.au
X-WR-CALDESC:Events for Mental Health Help
BEGIN:VTIMEZONE
TZID:Australia/Sydney
BEGIN:STANDARD
TZOFFSETFROM:+1100
TZOFFSETTO:+1000
TZNAME:AEST
DTSTART:20190406T160000
END:STANDARD
BEGIN:DAYLIGHT
TZOFFSETFROM:+1000
TZOFFSETTO:+1100
TZNAME:AEDT
DTSTART:20191005T160000
END:DAYLIGHT
END:VTIMEZONE
BEGIN:VEVENT
DTSTART;TZID=Australia/Sydney:20190610T110000
DTEND;TZID=Australia/Sydney:20190610T130000
DTSTAMP:20200301T170756
CREATED:20190313T020455Z
LAST-MODIFIED:20190313T020455Z
UID:4292-1560164400-1560171600@www.mentalhealthhelp.com.au
SUMMARY:Carer Support Group
DESCRIPTION: \n
URL:https://www.mentalhealthhelp.com.au/event/carer-support-group-10-jun-19/
LOCATION:Erskine Park Community Centre\, 57 Peppertree Drive\, Erskine Park\, NSW\, 2759\, Australia
END:VEVENT
END:VCALENDAR